Workbook

Sheet Beurteilung
A1: Nr. | B1: Standard | C1: Adressat | D1: Stichwort | E1: Kriterium | F1: Punkte (0-3)
A2: Domain II: Ethik und Professionalität
A3: Prinzip 1: Zeige Integrität
A4: Interne Revisorinnen und Revisoren zeigen Integrität in ihrer Arbeit und ihrem Verhalten.
A5: Beurteilung für Standard 1.1 Aufrichtigkeit und berufliche Courage
A6: Beispiele für Nachweise der Einhaltung:
A7: • Ein Schulungsplan, der ethikbezogene Aus- und Weiterbildung umfasst.
A8: • Dokumente, die die Anwesenheit oder Teilnahme von Internen Revisorinnen und Revisoren an Ethikschulungen belegen.
A9: • Leistungsbeurteilungen, die Aufrichtigkeit und berufliche Courage als Ziele angeben.
A10: • Feedback von wichtigen Stakeholdern zu Aufrichtigkeit und Courage von Internen Revisorinnen und Revisoren.
A11: 1 | B11: 1.1 | C11: RuR | D11: Courage | E11: Interne Revisorinnen und Revisoren müssen ihre Arbeit mit Aufrichtigkeit und beruflicher Courage ausführen.
E12: Interne Revisorinnen und Revisoren müssen in allen beruflichen Beziehungen und in ihrer Kommunikation wahrheitsgemäß, genau, klar, offen und respektvoll sein, auch wenn sie Skepsis ausdrücken oder eine gegenteilige Ansicht vertreten.
E13: Interne Revisorinnen und Revisoren dürfen keine falschen, irreführenden oder täuschenden Aussagen machen und dürfen Feststellungen oder andere relevante Informationen in ihrer Kommunikation nicht verbergen oder auslassen. Interne Revisorinnen und Revisoren müssen alle ihnen bekannten wesentlichen Tatsachen offenlegen, deren Nichtoffenlegung die Fähig-keit der Organisation beeinträchtigen könnte, fundierte Entscheidungen zu treffen.
E14: Interne Revisorinnen und Revisoren müssen berufliche Courage zeigen, indem sie wahrheitsgemäß kommunizieren und angemessene Maßnahmen ergreifen, selbst wenn sie mit Dilemmas und schwierigen Situationen konfrontiert werden.
A15: 2 | B15: 1.1 | C15: RL | D15: Courage | E15: Die Revisionsleitung muss für ein Arbeitsumfeld sorgen, in dem sich Interne Revisorinnen und Revisoren unterstützt fühlen, wenn sie legitime, auf Nachweisen basierende Auftragsergebnisse äußern, ob positiv oder negativ.
A16: Beurteilung für Standard 1.2 Ethische Erwartungen der Organisation
A17: Beispiele für Nachweise der Einhaltung:
A18: • Aufzeichnungen über die Teilnahme von Internen Revisorinnen und Revisoren an Workshops, Schulungen oder Sitzungen, bei denen ethische Erwartungen und Sachverhalte besprochen wurden.
A19: • Von Internen Revisorinnen und Revisoren unterzeichnete Formulare, die das Verständnis und die Verpflichtung bestätigen, die Ethikrichtlinien und -prozesse der Organisation zu befolgen.
A20: • Der Revisionsplan, das Arbeitsprogramm oder die Arbeitspapiere, aus denen die Berücksichtigung der ethikbezogenen Ziele, Risiken und Kontrollprozesse der Organisation hervorgeht.
A21: • Dokumentation, aus der hervorgeht, dass ethische Probleme dem Überwachungsorgan, der Geschäftsleitung und den Aufsichtsbehörden im Einklang mit den Richtlinien der Organisation und den relevanten Gesetzen und/oder Vorschriften mitgeteilt wurden.
A22: 3 | B22: 1.2 | C22: RuR | D22: Ethische Erwartungen | E22: Interne Revisorinnen und Revisoren müssen die legitimen und ethischen Erwartungen der Organisation verstehen, respektieren, erfüllen und zu diesen beitragen.
E23: Sie müssen in der Lage sein, ein Verhalten zu erkennen, das diesen Erwartungen widerspricht.
E24: Interne Revisorinnen und Revisoren müssen eine auf Ethik basierende Kultur in der Organisation unterstützen und fördern. Wenn Interne Revisorinnen und Revisoren ein Verhalten innerhalb der Organisation feststellen, das nicht mit den ethischen Erwartungen der Organisation vereinbar ist, müssen sie die Bedenken gemäß den geltenden Richtlinien und Verfahren berichten.
A25: Beurteilung für Standard 1.3 Rechtmäßiges und ethisches Verhalten
A26: Beispiele für Nachweise der Einhaltung:
A27: • Aufzeichnungen über die Teilnahme Interner Revisorinnen und Revisoren an Schulungen zu Gesetzen, Vorschriften und/oder professionellem Verhalten.
A28: • Bestätigungen der Internen Revisorinnen und Revisoren über ihr Verständnis von relevanten gesetzlichen und beruflichen Erwartungen und ihres Einverständnisses, im Einklang mit diesen zu handeln.
A29: • Dokumentierte Methoden zum Umgang mit illegalem oder diskreditierendem Verhalten von Internen Revisorinnen und Revisoren und Verstößen gegen Gesetze oder Vorschriften durch Personen innerhalb der Organisation.
A30: • Dokumentierte Kommunikation zwischen Internen Revisorinnen und Revisoren und ihren Führungskräften und/oder Rechtsberatern die auf Bedenken hinsichtlich illegaler oder unprofessioneller Handlungen eingeht.
A31: • Bestätigung, dass Arbeitspapiere überprüft wurden.
A32: • Abschlusskommunikation zu Aufträgen, falls anwendbar.
A33: 4 | B33: 1.3 | C33: RuR | D33: Rechtmäßiges Verhalten | E33: Interne Revisorinnen und Revisoren dürfen sich nicht auf Aktivitäten einlassen oder an Aktivitäten beteiligt sein, die illegal sind, die Organisation oder den Berufsstand der Internen Revision diskreditieren oder die der Organisation oder ihren Mitarbeiterinnen und Mitarbeitern schaden könnten.
A34: 5 | B34: 1.3 | C34: RuR | D34: Rechtmäßiges Verhalten | E34: Interne Revisorinnen und Revisoren müssen die Gesetze und/oder Vorschriften einschließlich der erforderlichen Offenlegungen verstehen und einhalten, die für die Branche und das rechtliche Umfeld, in denen die Organisation tätig ist, relevant sind.
E35: Wenn Interne Revisorinnen und Revisoren Verstöße gegen Gesetze oder Vorschriften feststellen, müssen sie solche Vorfälle an Personen oder Stellen melden, die befugt sind, gemäß der Festlegungen in Gesetzen, Vorschriften oder anwendbaren Richtlinien und Verfahren angemessene Maßnahmen zu ergreifen.
A36: Prinzip 2: Wahre Objektivität
A37: Interne Revisorinnen und Revisoren pflegen eine unparteiische und unvoreingenommene Haltung, wenn sie Revisionsleistungen erbringen und Entscheidungen treffen.
A38: Beurteilung für Standard 2.1 Individuelle Objektivität
A39: Beispiele für Nachweise der Einhaltung:
A40: • Verweise auf die Verantwortung der Internen Revisorinnen und Revisoren für die Wahrung ihrer Objektivität in der Geschäftsordnung der Internen Revision.
...

Sheet Grafische Auswertung
F1: Auswertung der Beurteilung
F3: =Beurteilung!A2 -> Domain II: Ethik und Professionalität
A4: Domain | B4: Prinzip | D4: Bewertung
A5: II | B5: 1 | C5: 1 | D5: =Beurteilung!F3 -> 0 | P5: =D6+D7+D8+D10+D11+D12+D14+D15+D17+D18+D19+D21+D22 -> 0 | Q5: Punkte
A6: II | B6: 1 | C6: 1.1 | D6: =Beurteilung!F5 -> 0
A7: II | B7: 1 | C7: 1.2 | D7: =Beurteilung!F16 -> 0
A8: II | B8: 1 | C8: 1.3 | D8: =Beurteilung!F25 -> 0
A9: II | B9: 2 | C9: 2 | D9: =Beurteilung!F36 -> 0 | P9: =P5/39*100 -> 0 | Q9: %
A10: II | B10: 2 | C10: 2.1 | D10: =Beurteilung!F38 -> 0
A11: II | B11: 2 | C11: 2.2 | D11: =Beurteilung!F49 -> 0
A12: II | B12: 2 | C12: 2.3 | D12: =Beurteilung!F69 -> 0
A13: II | B13: 3 | C13: 3 | D13: =Beurteilung!F77 -> 0 | F13: =Beurteilung!A3 -> Prinzip 1: Zeige Integrität | H13: =Beurteilung!A36 -> Prinzip 2: Wahre Objektivität | J13: =Beurteilung!A77 -> Prinzip 3: Zeige Kompetenz | L13: =Beurteilung!A103 -> Prinzip 4: Wende berufsübliche Sorgfalt an | N13: =Beurteilung!A148 -> Prinzip 5: Wahre Vertraulichkeit
A14: II | B14: 3 | C14: 3.1 | D14: =Beurteilung!F79 -> 0
A15: II | B15: 3 | C15: 3.2 | D15: =Beurteilung!F95 -> 0
A16: II | B16: 4 | C16: 4 | D16: =Beurteilung!F103 -> 0 | F16: =Beurteilung!A180 -> Domain III: Governance der Internen Revision
A17: II | B17: 4 | C17: 4.1 | D17: =Beurteilung!F105 -> 0 | P17: =D24+D25+D26+D28+D29+D31+D32+D33+D34 -> 0 | Q17: Punkte
A18: II | B18: 4 | C18: 4.2 | D18: =Beurteilung!F118 -> 0
A19: II | B19: 4 | C19: 4.3 | D19: =Beurteilung!F137 -> 0
A20: II | B20: 5 | C20: 5 | D20: =Beurteilung!F148 -> 0
A21: II | B21: 5 | C21: 5.1 | D21: =Beurteilung!F150 -> 0 | P21: =P17/27*100 -> 0 | Q21: %
A22: II | B22: 5 | C22: 5.2 | D22: =Beurteilung!F160 -> 0
A23: III | B23: 6 | C23: 6 | D23: =Beurteilung!F181 -> 0
A24: III | B24: 6 | C24: 6.1 | D24: =Beurteilung!F183 -> 0
A25: III | B25: 6 | C25: 6.2 | D25: =Beurteilung!F195 -> 0
A26: III | B26: 6 | C26: 6.3 | D26: =Beurteilung!F211 -> 0 | F26: =Beurteilung!A181 -> Prinzip 6: Autorisierung durch das Leitungs- und Überwachungsorgan | H26: =Beurteilung!A227 -> Prinzip 7: Unabhängigkeit | J26: =Beurteilung!A266 -> Prinzip 8: Aufsicht durch das Leitungs- und Überwachungsorgan
A27: III | B27: 7 | C27: 7 | D27: =Beurteilung!F227 -> 0
A28: III | B28: 7 | C28: 7.1 | D28: =Beurteilung!F229 -> 0
A29: III | B29: 7 | C29: 7.2 | D29: =Beurteilung!F253 -> 0 | F29: =Beurteilung!A342 -> Domain IV: Leitung der Internen Revision
A30: III | B30: 8 | C30: 8 | D30: =Beurteilung!F266 -> 0
A31: III | B31: 8 | C31: 8.1 | D31: =Beurteilung!F268 -> 0 | P31: =D36+D37+D38+D39+D40+D42+D43+D44+D46+D47+D48+D49+D50+D52+D53+D54 -> 0 | Q31: Punkte
A32: III | B32: 8 | C32: 8.2 | D32: =Beurteilung!F291 -> 0
A33: III | B33: 8 | C33: 8.3 | D33: =Beurteilung!F305 -> 0
A34: III | B34: 8 | C34: 8.4 | D34: =Beurteilung!F324 -> 0
A35: IV | B35: 9 | C35: 9 | D35: =Beurteilung!F343 -> 0 | P35: =P31/48*100 -> 0 | Q35: %
A36: IV | B36: 9 | C36: 9.1 | D36: =Beurteilung!F345 -> 0
A37: IV | B37: 9 | C37: 9.2 | D37: =Beurteilung!F369 -> 0
A38: IV | B38: 9 | C38: 9.3 | D38: =Beurteilung!F379 -> 0
A39: IV | B39: 9 | C39: 9.4 | D39: =Beurteilung!F389 -> 0 | F39: =Beurteilung!A343 -> Prinzip 9: Plane strategisch | H39: =Beurteilung!A422 -> Prinzip 10: Manage Ressourcen | J39: =Beurteilung!A466 -> Prinzip 11: Kommuniziere wirksam | L39: =Beurteilung!A535 -> Prinzip 12: Verbessere die Qualität
A40: IV | B40: 9 | C40: 9.5 | D40: =Beurteilung!F412 -> 0
A41: IV | B41: 10 | C41: 10 | D41: =Beurteilung!F422 -> 0
...
