Workbook

Sheet Beurteilung
A1: Nr. | B1: Standard | C1: Adressat | D1: Stichwort | E1: Kriterium | F1: Punkte (0-3)
A2: Domain II: Ethik und Professionalität
A3: Prinzip 1: Zeige Integrität
A4: Interne Revisorinnen und Revisoren zeigen Integrität in ihrer Arbeit und ihrem Verhalten.
A5: Beurteilung für Standard 1.1 Aufrichtigkeit und berufliche Courage
A6: Beispiele für Nachweise der Einhaltung:
A7: • Ein Schulungsplan, der ethikbezogene Aus- und Weiterbildung umfasst.
A8: • Dokumente, die die Anwesenheit oder Teilnahme von Internen Revisorinnen und Revisoren an Ethikschulungen belegen.
A9: • Leistungsbeurteilungen, die Aufrichtigkeit und berufliche Courage als Ziele angeben.
A10: • Feedback von wichtigen Stakeholdern zu Aufrichtigkeit und Courage von Internen Revisorinnen und Revisoren.
A11: 1 | B11: 1.1 | C11: RuR | D11: Courage | E11: Interne Revisorinnen und Revisoren müssen ihre Arbeit mit Aufrichtigkeit und beruflicher Courage ausführen.
E12: Interne Revisorinnen und Revisoren müssen in allen beruflichen Beziehungen und in ihrer Kommunikation wahrheitsgemäß, genau, klar, offen und respektvoll sein, auch wenn sie Skepsis ausdrücken oder eine gegenteilige Ansicht vertreten.
E13: Interne Revisorinnen und Revisoren dürfen keine falschen, irreführenden oder täuschenden Aussagen machen und dürfen Feststellungen oder andere relevante Informationen in ihrer Kommunikation nicht verbergen oder auslassen. Interne Revisorinnen und Revisoren müssen alle ihnen bekannten wesentlichen Tatsachen offenlegen, deren Nichtoffenlegung die Fähig-keit der Organisation beeinträchtigen könnte, fundierte Entscheidungen zu treffen.
E14: Interne Revisorinnen und Revisoren müssen berufliche Courage zeigen, indem sie wahrheitsgemäß kommunizieren und angemessene Maßnahmen ergreifen, selbst wenn sie mit Dilemmas und schwierigen Situationen konfrontiert werden.
A15: 2 | B15: 1.1 | C15: RL | D15: Courage | E15: Die Revisionsleitung muss für ein Arbeitsumfeld sorgen, in dem sich Interne Revisorinnen und Revisoren unterstützt fühlen, wenn sie legitime, auf Nachweisen basierende Auftragsergebnisse äußern, ob positiv oder negativ.
A16: Beurteilung für Standard 1.2 Ethische Erwartungen der Organisation
A17: Beispiele für Nachweise der Einhaltung:
A18: • Aufzeichnungen über die Teilnahme von Internen Revisorinnen und Revisoren an Workshops, Schulungen oder Sitzungen, bei denen ethische Erwartungen und Sachverhalte besprochen wurden.
A19: • Von Internen Revisorinnen und Revisoren unterzeichnete Formulare, die das Verständnis und die Verpflichtung bestätigen, die Ethikrichtlinien und -prozesse der Organisation zu befolgen.
A20: • Der Revisionsplan, das Arbeitsprogramm oder die Arbeitspapiere, aus denen die Berücksichtigung der ethikbezogenen Ziele, Risiken und Kontrollprozesse der Organisation hervorgeht.
A21: • Dokumentation, aus der hervorgeht, dass ethische Probleme dem Überwachungsorgan, der Geschäftsleitung und den Aufsichtsbehörden im Einklang mit den Richtlinien der Organisation und den relevanten Gesetzen und/oder Vorschriften mitgeteilt wurden.
A22: 3 | B22: 1.2 | C22: RuR | D22: Ethische Erwartungen | E22: Interne Revisorinnen und Revisoren müssen die legitimen und ethischen Erwartungen der Organisation verstehen, respektieren, erfüllen und zu diesen beitragen.
E23: Sie müssen in der Lage sein, ein Verhalten zu erkennen, das diesen Erwartungen widerspricht.
E24: Interne Revisorinnen und Revisoren müssen eine auf Ethik basierende Kultur in der Organisation unterstützen und fördern. Wenn Interne Revisorinnen und Revisoren ein Verhalten innerhalb der Organisation feststellen, das nicht mit den ethischen Erwartungen der Organisation vereinbar ist, müssen sie die Bedenken gemäß den geltenden Richtlinien und Verfahren berichten.
A25: Beurteilung für Standard 1.3 Rechtmäßiges und ethisches Verhalten
A26: Beispiele für Nachweise der Einhaltung:
A27: • Aufzeichnungen über die Teilnahme Interner Revisorinnen und Revisoren an Schulungen zu Gesetzen, Vorschriften und/oder professionellem Verhalten.
A28: • Bestätigungen der Internen Revisorinnen und Revisoren über ihr Verständnis von relevanten gesetzlichen und beruflichen Erwartungen und ihres Einverständnisses, im Einklang mit diesen zu handeln.
A29: • Dokumentierte Methoden zum Umgang mit illegalem oder diskreditierendem Verhalten von Internen Revisorinnen und Revisoren und Verstößen gegen Gesetze oder Vorschriften durch Personen innerhalb der Organisation.
A30: • Dokumentierte Kommunikation zwischen Internen Revisorinnen und Revisoren und ihren Führungskräften und/oder Rechtsberatern die auf Bedenken hinsichtlich illegaler oder unprofessioneller Handlungen eingeht.
A31: • Bestätigung, dass Arbeitspapiere überprüft wurden.
A32: • Abschlusskommunikation zu Aufträgen, falls anwendbar.
A33: 4 | B33: 1.3 | C33: RuR | D33: Rechtmäßiges Verhalten | E33: Interne Revisorinnen und Revisoren dürfen sich nicht auf Aktivitäten einlassen oder an Aktivitäten beteiligt sein, die illegal sind, die Organisation oder den Berufsstand der Internen Revision diskreditieren oder die der Organisation oder ihren Mitarbeiterinnen und Mitarbeitern schaden könnten.
A34: 5 | B34: 1.3 | C34: RuR | D34: Rechtmäßiges Verhalten | E34: Interne Revisorinnen und Revisoren müssen die Gesetze und/oder Vorschriften einschließlich der erforderlichen Offenlegungen verstehen und einhalten, die für die Branche und das rechtliche Umfeld, in denen die Organisation tätig ist, relevant sind.
E35: Wenn Interne Revisorinnen und Revisoren Verstöße gegen Gesetze oder Vorschriften feststellen, müssen sie solche Vorfälle an Personen oder Stellen melden, die befugt sind, gemäß der Festlegungen in Gesetzen, Vorschriften oder anwendbaren Richtlinien und Verfahren angemessene Maßnahmen zu ergreifen.
A36: Prinzip 2: Wahre Objektivität
A37: Interne Revisorinnen und Revisoren pflegen eine unparteiische und unvoreingenommene Haltung, wenn sie Revisionsleistungen erbringen und Entscheidungen treffen.
A38: Beurteilung für Standard 2.1 Individuelle Objektivität
A39: Beispiele für Nachweise der Einhaltung:
A40: • Verweise auf die Verantwortung der Internen Revisorinnen und Revisoren für die Wahrung ihrer Objektivität in der Geschäftsordnung der Internen Revision.
A41: • Richtlinien und Verfahren in Bezug auf Objektivität.
A42: • Dokumentation über geplante und durchgeführte Objektivitätsschulungen, einschließlich Teilnehmerliste.
A43: • Formulare, die bestätigen, dass sich die Internen Revisorinnen und Revisoren der Bedeutung der Objektivität und der Verpflichtung zur Offenlegung möglicher Beeinträchtigungen bewusst sind.
A44: • Dokumentierte Offenlegungen potenzieller Interessenkonflikte oder anderer Beeinträchtigungen der Objektivität.
A45: • Dokumentation aus der Beaufsichtigung durch die Auftragsleitung und zum Mentoring von Internen Revisorinnen und Revisoren.
A46: 6 | B46: 2.1 | C46: RuR | D46: Objektivität | E46: Interne Revisorinnen und Revisoren müssen bei der Erbringung aller Aspekte von Revisionsleistungen professionelle Objektivität wahren.
E47: Professionelle Objektivität erfordert, dass Interne Revisorinnen und Revisoren eine unparteiische und unvoreingenommene Geisteshaltung einnehmen und Urteile auf der Grundlage einer ausgewogenen Beurteilung aller relevanten Umstände fällen.
E48: Interne Revisorinnen und Revisoren müssen sich einer potenziellen Voreingenommenheit bewusst sein und diese managen.
A49: Beurteilung für Standard 2.2 Wahrung der Objektivität
A50: Beispiele für Nachweise der Einhaltung:
A51: • Richtlinien und Verfahren zur Identifikation potenzieller Beeinträchtigungen und notwendiger Schutzmaßnahmen.
A52: • Aufzeichnungen über Objektivitätsschulungen.
A53: • Dokumentation, durch die Interne Revisorinnen und Revisoren belegen, dass bei ihnen entweder keine Beeinträchtigungen bekannt sind oder mögliche Beeinträchtigungen offengelegt wurden.
A54: • Quellen für Feedback zur Wahrnehmung der Objektivität von Internen Revisorinnen und Revisoren, wie z. B. Umfragen bei den Stakeholdern der Internen Revision.
A55: • Notizen aus Qualitätsüberprüfungen.
A56: • Vergütungsplan.
A57: • Protokolle von Sitzungen des Leitungs- und Überwachungsorgans, in denen Beeinträchtigungen der Objektivität diskutiert wurden.
A58: • Pläne, die alternative Maßnahmen zur Erfüllung des Revisionsplans aufzeigen, wenn Beeinträchtigungen der Objektivität unvermeidbar waren.
A59: • Ergebnisse externer Qualitätsbeurteilungen durch unabhängige Beurteilerinnen oder Beurteiler.
A60: 7 | B60: 2.2 | C60: RuR | D60: Objektivität | E60: Interne Revisorinnen und Revisoren müssen tatsächliche, potenzielle und wahrgenommene Beeinträchtigungen der Objektivität erkennen und vermeiden oder mindern.
E61: Interne Revisorinnen und Revisoren dürfen keine materiellen oder immateriellen Gegenstände wie Geschenke, Belohnungen oder Gefälligkeiten annehmen, die die Objektivität beeinträchtigen oder den Anschein dessen erwecken.
E62: Interne Revisorinnen und Revisoren müssen Interessenkonflikte vermeiden und dürfen sich nicht unangemessen von ihren eigenen Interessen oder den Interessen anderer, einschließlich der Geschäftsleitung oder anderer Autoritätspersonen, des politischen Umfelds oder anderer Aspekte ihres Umfelds, beeinflussen lassen.
A63: 8 | B63: 2.2 | C63: RuR | D63: Objektivität | E63: Interne Revisorinnen und Revisoren müssen davon Abstand nehmen, bestimmte Tätigkeiten zu beurteilen, für die sie zuvor verantwortlich waren. Eine Beeinträchtigung der Objektivität wird vermutet, wenn eine Interne Revisorin oder ein Revisor Prüfungsleistungen für eine Tätigkeit erbringt, für die sie/er in den letzten 12 Monaten verantwortlich war.
E64: Sollen Interne Revisorinnen und Revisoren Beratungsleistungen im Zusammenhang mit Tätigkeiten erbringen, für die sie bisher zuständig waren, müssen sie vor Annahme des Auftrags mögliche Beeinträchtigungen gegenüber der die Beratung anfragenden Partei offenlegen.
A65: 9 | B65: 2.2 | C65: RL | D65: Objektivität | E65: Wenn die Interne Revision dort Prüfungsleistungen erbringen soll, wo sie zuvor Beratungsleistungen erbracht hat, muss die Revisionsleitung bestätigen, dass die Beratungsleistung die Objektivität nicht beeinträchtigt und individuell objektive Ressourcen so zuweisen, dass die individuelle Objektivität gewahrt bleibt.
A66: 10 | B66: 2.2 | C66: RL | D66: Objektivität | E66: Prüfungsaufträge für Funktionen, für die die Revisionsleitung verantwortlich ist, müssen durch eine unabhängige Partei außerhalb der Internen Revision überwacht werden.
A67: 11 | B67: 2.2 | C67: RL | D67: Objektivität | E67: Die Revisionsleitung muss Methoden festlegen, um Beeinträchtigungen der Objektivität zu begegnen.
A68: 12 | B68: 2.2 | C68: RuR | D68: Objektivität | E68: Interne Revisorinnen und Revisoren müssen Beeinträchtigungen der Objektivität besprechen und geeignete Maßnahmen gemäß den relevanten Methoden ergreifen.
A69: Beurteilung für Standard 2.3 Offenlegung von Beeinträchtigungen der Objektivität
A70: Beispiele für Nachweise der Einhaltung:
A71: • Methoden der Internen Revision zur Offenlegung von Beeinträchtigungen der Objektivität.
A72: • Unterlagen, die das Vorhandensein oder Nichtvorhandensein von Beeinträchtigungen der Objektivität belegen.
A73: • Aufzeichnungen über die Offenlegung von Beeinträchtigungen der Objektivität und die Antwort und/oder Genehmigung des Umgangs damit durch die geeigneten Parteien.
A74: 13 | B74: 2.3 | C74: RL | D74: Objektivität | E74: Wenn die Objektivität tatsächlich oder dem Anschein nach beeinträchtigt ist, müssen die Einzelheiten der Beeinträchtigung unverzüglich den zuständigen Parteien offengelegt werden. Wenn die Revisionsleitung feststellt, dass die Fähigkeit einer Internen Revisorin oder eines Internen Revisors zur objektiven Erfüllung der Revisionsaufgaben beeinträchtigt ist, muss sie die Beeinträchtigung mit dem Management des Untersuchungsgegenstands, der Geschäftsleitung und/oder dem Überwachungsorgan erörtern und geeignete Maßnahmen festlegen, um die Situation zu lösen.
E75: Wenn nach Abschluss eines Auftrags eine Beeinträchtigung entdeckt wird, die die Zuverlässigkeit oder wahrgenommene Zuverlässigkeit von Feststellungen, Empfehlungen und/oder Gesamturteil des Auftrags beeinträchtigt, muss die Revisionsleitung die Bedenken mit dem Management des Untersuchungsgegenstands, der Geschäftsleitung, dem Überwachungsorgan und/oder anderen betroffenen Stakeholdern besprechen und geeignete Maßnahmen zur Lösung der Situation festlegen.
A76: 14 | B76: 2.3 | C76: RL | D76: Objektivität | E76: Wenn die Objektivität der Revisionsleitung tatsächlich oder dem Anschein nach beeinträchtigt ist, muss die Revisionsleitung die Beeinträchtigung dem Leitungs- und Überwachungsorgan offenlegen.
A77: Prinzip 3: Zeige Kompetenz
A78: Interne Revisorinnen und Revisoren wenden die erforderlichen Kenntnisse, Fertigkeiten und Fähigkeiten an, um ihre Aufgaben und Verantwortlichkeiten erfolgreich zu erfüllen.
A79: Beurteilung für Standard 3.1 Kompetenz
A80: Beispiele für Nachweise der Einhaltung:
A81: • Dokumentation, die Zertifizierungen, Ausbildung, Erfahrung, beruflichen Werdegang und andere Qualifikationen der Internen Revisorinnen und Revisoren auflistet.
A82: • Selbstbeurteilungen der Internen Revisorinnen und Revisoren zu ihren Kompetenzen und Plänen zur beruflichen Weiterentwicklung.
A83: • Dokumentation der absolvierten beruflichen Weiterbildung der Internen Revisorinnen und Revisoren, wie z. B. Kurse, Tagungen, Workshops und Seminare.
A84: • Dokumentierte Leistungsüberprüfungen von Internen Revisorinnen und Revisoren.
A85: • Dokumentierte Überprüfungen von Revisionsaufträgen, Umfragen nach dem Revisionsauftrag, die von Stakeholdern der Internen Revision beantwortet wurden, und andere Formen des Feedbacks, die einen Einblick in die Kompetenzen der Internen Revisorinnen und Revisoren und der Internen Revision geben.
A86: • Die Ergebnisse interner und externer Qualitätsbeurteilungen.
A87: • Dokumentation relevanter Kompetenzen, die zur Erfüllung des Revisionsplans notwendig sind, Analyse von Ressourcenlücken und Identifikation der erforderlichen Schulungen und des Budgets, um die Lücken zu schließen.
A88: • Dokumentation wie eine Prüfungsübersicht, die die Kompetenzen anderer Anbieter von Prüfungs- und Beratungsleistungen aufzeigt, auf die sich die Interne Revision verlassen könnte.
A89: 15 | B89: 3.1 | C89: RuR | D89: Kompetenz | E89: Interne Revisorinnen und Revisoren müssen die für die erfolgreiche Wahrnehmung ihrer Aufgaben erforderlichen Kompetenzen besitzen oder erwerben.
E90: Zu den erforderlichen Kompetenzen gehören Kenntnisse, Fertigkeiten und Fähigkeiten, die für die jeweilige Position und den Verantwortungsbereich geeignet sind und die Verantwortlichkeiten entsprechen dem Erfahrungsstand.
E91: Interne Revisorinnen und Revisoren müssen Kenntnisse der Global Internal Audit Standards des IIA besitzen oder erwerben.
E92: Interne Revisorinnen und Revisoren dürfen nur solche Leistungen erbringen, für die sie die erforderlichen Kompetenzen besitzen oder erlangen können.
A93: 16 | B93: 3.1 | C93: RL | D93: Kompetenz | E93: Jede Interne Revisorin und jeder Interne Revisor ist dafür verantwortlich, die zur Erfüllung der beruflichen Verantwortung erforderlichen Kompetenzen kontinuierlich weiterzuentwickeln und anzuwenden.
E94: Darüber hinaus muss die Revisionsleitung entweder sicherstellen, dass die Interne Revision insgesamt über die Kompetenzen verfügt, um die in der Geschäftsordnung der Internen Revision beschriebenen Dienstleistungen zu erbringen, oder dass sie die erforderlichen Kompetenzen erlangt.
A95: Beurteilung für Standard 3.2 Kontinuierliche Berufliche Weiterbildung
A96: Beispiele für Nachweise der Einhaltung:
A97: • Dokumentierte Pläne für die Teilnahme an Schulungsveranstaltungen, Fachkonferenzen und anderen kontinuierlichen beruflichen Weiterbildungen.
A98: • Aufzeichnungen über die absolvierte kontinuierliche berufliche Weiterbildung der Internen Revisorinnen und Revisoren und erlangte Zertifizierungen.
A99: • Leistungsbeurteilungen und/oder Pläne für die berufliche Entwicklung der Internen Revisorinnen und Revisoren.
A100: • Nachweis der aktiven Beteiligung im IIA und anderen relevanten Berufsorganisationen, wie z. B. ehrenamtliche Tätigkeiten.
...

Sheet Grafische Auswertung
F1: Auswertung der Beurteilung
F3: =Beurteilung!A2 -> Domain II: Ethik und Professionalität
A4: Domain | B4: Prinzip | D4: Bewertung
A5: II | B5: 1 | C5: 1 | D5: =Beurteilung!F3 -> 0 | P5: =D6+D7+D8+D10+D11+D12+D14+D15+D17+D18+D19+D21+D22 -> 0 | Q5: Punkte
A6: II | B6: 1 | C6: 1.1 | D6: =Beurteilung!F5 -> 0
A7: II | B7: 1 | C7: 1.2 | D7: =Beurteilung!F16 -> 0
A8: II | B8: 1 | C8: 1.3 | D8: =Beurteilung!F25 -> 0
A9: II | B9: 2 | C9: 2 | D9: =Beurteilung!F36 -> 0 | P9: =P5/39*100 -> 0 | Q9: %
A10: II | B10: 2 | C10: 2.1 | D10: =Beurteilung!F38 -> 0
A11: II | B11: 2 | C11: 2.2 | D11: =Beurteilung!F49 -> 0
A12: II | B12: 2 | C12: 2.3 | D12: =Beurteilung!F69 -> 0
A13: II | B13: 3 | C13: 3 | D13: =Beurteilung!F77 -> 0 | F13: =Beurteilung!A3 -> Prinzip 1: Zeige Integrität | H13: =Beurteilung!A36 -> Prinzip 2: Wahre Objektivität | J13: =Beurteilung!A77 -> Prinzip 3: Zeige Kompetenz | L13: =Beurteilung!A103 -> Prinzip 4: Wende berufsübliche Sorgfalt an | N13: =Beurteilung!A148 -> Prinzip 5: Wahre Vertraulichkeit
A14: II | B14: 3 | C14: 3.1 | D14: =Beurteilung!F79 -> 0
A15: II | B15: 3 | C15: 3.2 | D15: =Beurteilung!F95 -> 0
A16: II | B16: 4 | C16: 4 | D16: =Beurteilung!F103 -> 0 | F16: =Beurteilung!A180 -> Domain III: Governance der Internen Revision
A17: II | B17: 4 | C17: 4.1 | D17: =Beurteilung!F105 -> 0 | P17: =D24+D25+D26+D28+D29+D31+D32+D33+D34 -> 0 | Q17: Punkte
A18: II | B18: 4 | C18: 4.2 | D18: =Beurteilung!F118 -> 0
A19: II | B19: 4 | C19: 4.3 | D19: =Beurteilung!F137 -> 0
A20: II | B20: 5 | C20: 5 | D20: =Beurteilung!F148 -> 0
A21: II | B21: 5 | C21: 5.1 | D21: =Beurteilung!F150 -> 0 | P21: =P17/27*100 -> 0 | Q21: %
A22: II | B22: 5 | C22: 5.2 | D22: =Beurteilung!F160 -> 0
A23: III | B23: 6 | C23: 6 | D23: =Beurteilung!F181 -> 0
A24: III | B24: 6 | C24: 6.1 | D24: =Beurteilung!F183 -> 0
A25: III | B25: 6 | C25: 6.2 | D25: =Beurteilung!F195 -> 0
A26: III | B26: 6 | C26: 6.3 | D26: =Beurteilung!F211 -> 0 | F26: =Beurteilung!A181 -> Prinzip 6: Autorisierung durch das Leitungs- und Überwachungsorgan | H26: =Beurteilung!A227 -> Prinzip 7: Unabhängigkeit | J26: =Beurteilung!A266 -> Prinzip 8: Aufsicht durch das Leitungs- und Überwachungsorgan
A27: III | B27: 7 | C27: 7 | D27: =Beurteilung!F227 -> 0
A28: III | B28: 7 | C28: 7.1 | D28: =Beurteilung!F229 -> 0
A29: III | B29: 7 | C29: 7.2 | D29: =Beurteilung!F253 -> 0 | F29: =Beurteilung!A342 -> Domain IV: Leitung der Internen Revision
A30: III | B30: 8 | C30: 8 | D30: =Beurteilung!F266 -> 0
A31: III | B31: 8 | C31: 8.1 | D31: =Beurteilung!F268 -> 0 | P31: =D36+D37+D38+D39+D40+D42+D43+D44+D46+D47+D48+D49+D50+D52+D53+D54 -> 0 | Q31: Punkte
A32: III | B32: 8 | C32: 8.2 | D32: =Beurteilung!F291 -> 0
A33: III | B33: 8 | C33: 8.3 | D33: =Beurteilung!F305 -> 0
A34: III | B34: 8 | C34: 8.4 | D34: =Beurteilung!F324 -> 0
A35: IV | B35: 9 | C35: 9 | D35: =Beurteilung!F343 -> 0 | P35: =P31/48*100 -> 0 | Q35: %
A36: IV | B36: 9 | C36: 9.1 | D36: =Beurteilung!F345 -> 0
A37: IV | B37: 9 | C37: 9.2 | D37: =Beurteilung!F369 -> 0
A38: IV | B38: 9 | C38: 9.3 | D38: =Beurteilung!F379 -> 0
A39: IV | B39: 9 | C39: 9.4 | D39: =Beurteilung!F389 -> 0 | F39: =Beurteilung!A343 -> Prinzip 9: Plane strategisch | H39: =Beurteilung!A422 -> Prinzip 10: Manage Ressourcen | J39: =Beurteilung!A466 -> Prinzip 11: Kommuniziere wirksam | L39: =Beurteilung!A535 -> Prinzip 12: Verbessere die Qualität
A40: IV | B40: 9 | C40: 9.5 | D40: =Beurteilung!F412 -> 0
A41: IV | B41: 10 | C41: 10 | D41: =Beurteilung!F422 -> 0
A42: IV | B42: 10 | C42: 10.1 | D42: =Beurteilung!F424 -> 0 | F42: =Beurteilung!A576 -> Domain V: Erbringung von Revisionsleistungen
A43: IV | B43: 10 | C43: 10.2 | D43: =Beurteilung!F434 -> 0
A44: IV | B44: 10 | C44: 10.3 | D44: =Beurteilung!F454 -> 0 | P44: =D56+D57+D58+D59+D60+D61+D63+D64+D65+D66+D67+D68+D70+D71 -> 0 | Q44: Punkte
A45: IV | B45: 11 | C45: 11 | D45: =Beurteilung!F466 -> 0
A46: IV | B46: 11 | C46: 11.1 | D46: =Beurteilung!F468 -> 0
A47: IV | B47: 11 | C47: 11.2 | D47: =Beurteilung!F481 -> 0
A48: IV | B48: 11 | C48: 11.3 | D48: =Beurteilung!F493 -> 0 | P48: =P44/42*100 -> 0 | Q48: %
A49: IV | B49: 11 | C49: 11.4 | D49: =Beurteilung!F518 -> 0
A50: IV | B50: 11 | C50: 11.5 | D50: =Beurteilung!F527 -> 0
A51: IV | B51: 12 | C51: 12 | D51: =Beurteilung!F535 -> 0
A52: IV | B52: 12 | C52: 12.1 | D52: =Beurteilung!F537 -> 0 | F52: =Beurteilung!A577 -> Prinzip 13: Plane Aufträge wirksam | H52: =Beurteilung!A668 -> Prinzip 14: Führe die Auftragsarbeiten aus | J52: =Beurteilung!A737 -> Prinzip 15: Kommuniziere Auftragsergebnisse und überwache Maßnahmenpläne
A53: IV | B53: 12 | C53: 12.2 | D53: =Beurteilung!F553 -> 0
A54: IV | B54: 12 | C54: 12.3 | D54: =Beurteilung!F563 -> 0
A55: V | B55: 13 | C55: 13 | D55: =Beurteilung!F577 -> 0
A56: V | B56: 13 | C56: 13.1 | D56: =Beurteilung!F579 -> 0
A57: V | B57: 13 | C57: 13.2 | D57: =Beurteilung!F587 -> 0
A58: V | B58: 13 | C58: 13.3 | D58: =Beurteilung!F615 -> 0 | P58: =P44+P31+P17+P5 -> 0 | Q58: Summe
A59: V | B59: 13 | C59: 13.4 | D59: =Beurteilung!F632 -> 0
A60: V | B60: 13 | C60: 13.5 | D60: =Beurteilung!F640 -> 0
A61: V | B61: 13 | C61: 13.6 | D61: =Beurteilung!F651 -> 0
A62: V | B62: 14 | C62: 14 | D62: =Beurteilung!F668 -> 0 | P62: =P58/156*100 -> 0 | Q62: %
A63: V | B63: 14 | C63: 14.1 | D63: =Beurteilung!F670 -> 0
A64: V | B64: 14 | C64: 14.2 | D64: =Beurteilung!F685 -> 0
A65: V | B65: 14 | C65: 14.3 | D65: =Beurteilung!F699 -> 0
A66: V | B66: 14 | C66: 14.4 | D66: =Beurteilung!F711 -> 0
A67: V | B67: 14 | C67: 14.5 | D67: =Beurteilung!F723 -> 0
A68: V | B68: 14 | C68: 14.6 | D68: =Beurteilung!F729 -> 0
A69: V | B69: 15 | C69: 15 | D69: =Beurteilung!F737 -> 0
A70: V | B70: 15 | C70: 15.1 | D70: =Beurteilung!F739 -> 0
A71: V | B71: 15 | C71: 15.2 | D71: =Beurteilung!F759 -> 0
